Workbook

Sheet Yard Log
A1: YARD LOG — one row per trailer visit (gate in → gate out)
A2: Fill columns A–J at gate in. Fill K–L at gate out. Dwell (M) and Status (N) calculate themselves. Do not delete rows — this is your history.
A4: Date In | B4: Time In | C4: Trailer # | D4: Carrier / SCAC | E4: Loaded / Empty | F4: Seal # In | G4: Current Spot | H4: Driver / Truck | I4: Reference (PO / BOL / Appt) | J4: Gate In By | K4: Date Out | L4: Time Out | M4: Dwell (days) | N4: Status | O4: Seal # Out | P4: Gate Out By | Q4: Notes | R4: helper (do not edit)
M5: =IF(A5="","",IF(K5="",NOW()-(A5+B5),(K5+L5)-(A5+B5))) | N5: =IF(A5="","",IF(K5="","ON YARD","DEPARTED")) | R5: =IF(N5="ON YARD",M5+ROW()/1000000000,"")
M6: =IF(A6="","",IF(K6="",NOW()-(A6+B6),(K6+L6)-(A6+B6))) | N6: =IF(A6="","",IF(K6="","ON YARD","DEPARTED")) | R6: =IF(N6="ON YARD",M6+ROW()/1000000000,"")
M7: =IF(A7="","",IF(K7="",NOW()-(A7+B7),(K7+L7)-(A7+B7))) | N7: =IF(A7="","",IF(K7="","ON YARD","DEPARTED")) | R7: =IF(N7="ON YARD",M7+ROW()/1000000000,"")
M8: =IF(A8="","",IF(K8="",NOW()-(A8+B8),(K8+L8)-(A8+B8))) | N8: =IF(A8="","",IF(K8="","ON YARD","DEPARTED")) | R8: =IF(N8="ON YARD",M8+ROW()/1000000000,"")
M9: =IF(A9="","",IF(K9="",NOW()-(A9+B9),(K9+L9)-(A9+B9))) | N9: =IF(A9="","",IF(K9="","ON YARD","DEPARTED")) | R9: =IF(N9="ON YARD",M9+ROW()/1000000000,"")
M10: =IF(A10="","",IF(K10="",NOW()-(A10+B10),(K10+L10)-(A10+B10))) | N10: =IF(A10="","",IF(K10="","ON YARD","DEPARTED")) | R10: =IF(N10="ON YARD",M10+ROW()/1000000000,"")
M11: =IF(A11="","",IF(K11="",NOW()-(A11+B11),(K11+L11)-(A11+B11))) | N11: =IF(A11="","",IF(K11="","ON YARD","DEPARTED")) | R11: =IF(N11="ON YARD",M11+ROW()/1000000000,"")
M12: =IF(A12="","",IF(K12="",NOW()-(A12+B12),(K12+L12)-(A12+B12))) | N12: =IF(A12="","",IF(K12="","ON YARD","DEPARTED")) | R12: =IF(N12="ON YARD",M12+ROW()/1000000000,"")
M13: =IF(A13="","",IF(K13="",NOW()-(A13+B13),(K13+L13)-(A13+B13))) | N13: =IF(A13="","",IF(K13="","ON YARD","DEPARTED")) | R13: =IF(N13="ON YARD",M13+ROW()/1000000000,"")
M14: =IF(A14="","",IF(K14="",NOW()-(A14+B14),(K14+L14)-(A14+B14))) | N14: =IF(A14="","",IF(K14="","ON YARD","DEPARTED")) | R14: =IF(N14="ON YARD",M14+ROW()/1000000000,"")
M15: =IF(A15="","",IF(K15="",NOW()-(A15+B15),(K15+L15)-(A15+B15))) | N15: =IF(A15="","",IF(K15="","ON YARD","DEPARTED")) | R15: =IF(N15="ON YARD",M15+ROW()/1000000000,"")
M16: =IF(A16="","",IF(K16="",NOW()-(A16+B16),(K16+L16)-(A16+B16))) | N16: =IF(A16="","",IF(K16="","ON YARD","DEPARTED")) | R16: =IF(N16="ON YARD",M16+ROW()/1000000000,"")
... M204: =IF(A204="","",IF(K204="",NOW()-(A204+B204),(K204+L204)-(A204+B204))) | N204: =IF(A204="","",IF(K204="","ON YARD","DEPARTED")) | R204: =IF(N204="ON YARD",M204+ROW()/1000000000,"")

Sheet Current Yard
A1: CURRENT YARD — what is sitting in each spot right now (auto from Yard Log)
A2: Only edit column A (your spot names). Everything else looks up the newest ON YARD row for that spot in the Yard Log.
A4: Spot | B4: Trailer # | C4: Carrier | D4: Loaded / Empty | E4: Seal # | F4: Date In | G4: Dwell (days) | H4: Occupied?
A5: A-01 | B5: =IFERROR(LOOKUP(2,1/('Yard Log'!$G$5:$G$204=$A5)/('Yard Log'!$N$5:$N$204="ON YARD"),'Yard Log'!$C$5:$C$204),"") | C5: =IFERROR(LOOKUP(2,1/('Yard Log'!$G$5:$G$204=$A5)/('Yard Log'!$N$5:$N$204="ON YARD"),'Yard Log'!$D$5:$D$204),"") | D5: =IFERROR(LOOKUP(2,1/('Yard Log'!$G$5:$G$204=$A5)/('Yard Log'!$N$5:$N$204="ON YARD"),'Yard Log'!$E$5:$E$204),"") | E5: =IFERROR(LOOKUP(2,1/('Yard Log'!$G$5:$G$204=$A5)/('Yard Log'!$N$5:$N$204="ON YARD"),'Yard Log'!$F$5:$F$204),"") | F5: =IFERROR(LOOKUP(2,1/('Yard Log'!$G$5:$G$204=$A5)/('Yard Log'!$N$5:$N$204="ON YARD"),'Yard Log'!$A$5:$A$204),"") | G5: =IFERROR(LOOKUP(2,1/('Yard Log'!$G$5:$G$204=$A5)/('Yard Log'!$N$5:$N$204="ON YARD"),'Yard Log'!$M$5:$M$204),"") | H5: =IF(B5="","EMPTY","OCCUPIED")
A6: A-02 | B6: =IFERROR(LOOKUP(2,1/('Yard Log'!$G$5:$G$204=$A6)/('Yard Log'!$N$5:$N$204="ON YARD"),'Yard Log'!$C$5:$C$204),"") | C6: =IFERROR(LOOKUP(2,1/('Yard Log'!$G$5:$G$204=$A6)/('Yard Log'!$N$5:$N$204="ON YARD"),'Yard Log'!$D$5:$D$204),"") | D6: =IFERROR(LOOKUP(2,1/('Yard Log'!$G$5:$G$204=$A6)/('Yard Log'!$N$5:$N$204="ON YARD"),'Yard Log'!$E$5:$E$204),"") | E6: =IFERROR(LOOKUP(2,1/('Yard Log'!$G$5:$G$204=$A6)/('Yard Log'!$N$5:$N$204="ON YARD"),'Yard Log'!$F$5:$F$204),"") | F6: =IFERROR(LOOKUP(2,1/('Yard Log'!$G$5:$G$204=$A6)/('Yard Log'!$N$5:$N$204="ON YARD"),'Yard Log'!$A$5:$A$204),"") | G6: =IFERROR(LOOKUP(2,1/('Yard Log'!$G$5:$G$204=$A6)/('Yard Log'!$N$5:$N$204="ON YARD"),'Yard Log'!$M$5:$M$204),"") | H6: =IF(B6="","EMPTY","OCCUPIED")
A7: A-03 | B7: =IFERROR(LOOKUP(2,1/('Yard Log'!$G$5:$G$204=$A7)/('Yard Log'!$N$5:$N$204="ON YARD"),'Yard Log'!$C$5:$C$204),"") | C7: =IFERROR(LOOKUP(2,1/('Yard Log'!$G$5:$G$204=$A7)/('Yard Log'!$N$5:$N$204="ON YARD"),'Yard Log'!$D$5:$D$204),"") | D7: =IFERROR(LOOKUP(2,1/('Yard Log'!$G$5:$G$204=$A7)/('Yard Log'!$N$5:$N$204="ON YARD"),'Yard Log'!$E$5:$E$204),"") | E7: =IFERROR(LOOKUP(2,1/('Yard Log'!$G$5:$G$204=$A7)/('Yard Log'!$N$5:$N$204="ON YARD"),'Yard Log'!$F$5:$F$204),"") | F7: =IFERROR(LOOKUP(2,1/('Yard Log'!$G$5:$G$204=$A7)/('Yard Log'!$N$5:$N$204="ON YARD"),'Yard Log'!$A$5:$A$204),"") | G7: =IFERROR(LOOKUP(2,1/('Yard Log'!$G$5:$G$204=$A7)/('Yard Log'!$N$5:$N$204="ON YARD"),'Yard Log'!$M$5:$M$204),"") | H7: =IF(B7="","EMPTY","OCCUPIED")
A8: A-04 | B8: =IFERROR(LOOKUP(2,1/('Yard Log'!$G$5:$G$204=$A8)/('Yard Log'!$N$5:$N$204="ON YARD"),'Yard Log'!$C$5:$C$204),"") | C8: =IFERROR(LOOKUP(2,1/('Yard Log'!$G$5:$G$204=$A8)/('Yard Log'!$N$5:$N$204="ON YARD"),'Yard Log'!$D$5:$D$204),"") | D8: =IFERROR(LOOKUP(2,1/('Yard Log'!$G$5:$G$204=$A8)/('Yard Log'!$N$5:$N$204="ON YARD"),'Yard Log'!$E$5:$E$204),"") | E8: =IFERROR(LOOKUP(2,1/('Yard Log'!$G$5:$G$204=$A8)/('Yard Log'!$N$5:$N$204="ON YARD"),'Yard Log'!$F$5:$F$204),"") | F8: =IFERROR(LOOKUP(2,1/('Yard Log'!$G$5:$G$204=$A8)/('Yard Log'!$N$5:$N$204="ON YARD"),'Yard Log'!$A$5:$A$204),"") | G8: =IFERROR(LOOKUP(2,1/('Yard Log'!$G$5:$G$204=$A8)/('Yard Log'!$N$5:$N$204="ON YARD"),'Yard Log'!$M$5:$M$204),"") | H8: =IF(B8="","EMPTY","OCCUPIED")
A9: A-05 | B9: =IFERROR(LOOKUP(2,1/('Yard Log'!$G$5:$G$204=$A9)/('Yard Log'!$N$5:$N$204="ON YARD"),'Yard Log'!$C$5:$C$204),"") | C9: =IFERROR(LOOKUP(2,1/('Yard Log'!$G$5:$G$204=$A9)/('Yard Log'!$N$5:$N$204="ON YARD"),'Yard Log'!$D$5:$D$204),"") | D9: =IFERROR(LOOKUP(2,1/('Yard Log'!$G$5:$G$204=$A9)/('Yard Log'!$N$5:$N$204="ON YARD"),'Yard Log'!$E$5:$E$204),"") | E9: =IFERROR(LOOKUP(2,1/('Yard Log'!$G$5:$G$204=$A9)/('Yard Log'!$N$5:$N$204="ON YARD"),'Yard Log'!$F$5:$F$204),"") | F9: =IFERROR(LOOKUP(2,1/('Yard Log'!$G$5:$G$204=$A9)/('Yard Log'!$N$5:$N$204="ON YARD"),'Yard Log'!$A$5:$A$204),"") | G9: =IFERROR(LOOKUP(2,1/('Yard Log'!$G$5:$G$204=$A9)/('Yard Log'!$N$5:$N$204="ON YARD"),'Yard Log'!$M$5:$M$204),"") | H9: =IF(B9="","EMPTY","OCCUPIED")
A10: A-06 | B10: =IFERROR(LOOKUP(2,1/('Yard Log'!$G$5:$G$204=$A10)/('Yard Log'!$N$5:$N$204="ON YARD"),'Yard Log'!$C$5:$C$204),"") | C10: =IFERROR(LOOKUP(2,1/('Yard Log'!$G$5:$G$204=$A10)/('Yard Log'!$N$5:$N$204="ON YARD"),'Yard Log'!$D$5:$D$204),"") | D10: =IFERROR(LOOKUP(2,1/('Yard Log'!$G$5:$G$204=$A10)/('Yard Log'!$N$5:$N$204="ON YARD"),'Yard Log'!$E$5:$E$204),"") | E10: =IFERROR(LOOKUP(2,1/('Yard Log'!$G$5:$G$204=$A10)/('Yard Log'!$N$5:$N$204="ON YARD"),'Yard Log'!$F$5:$F$204),"") | F10: =IFERROR(LOOKUP(2,1/('Yard Log'!$G$5:$G$204=$A10)/('Yard Log'!$N$5:$N$204="ON YARD"),'Yard Log'!$A$5:$A$204),"") | G10: =IFERROR(LOOKUP(2,1/('Yard Log'!$G$5:$G$204=$A10)/('Yard Log'!$N$5:$N$204="ON YARD"),'Yard Log'!$M$5:$M$204),"") | H10: =IF(B10="","EMPTY","OCCUPIED")
A11: A-07 | B11: =IFERROR(LOOKUP(2,1/('Yard Log'!$G$5:$G$204=$A11)/('Yard Log'!$N$5:$N$204="ON YARD"),'Yard Log'!$C$5:$C$204),"") | C11: =IFERROR(LOOKUP(2,1/('Yard Log'!$G$5:$G$204=$A11)/('Yard Log'!$N$5:$N$204="ON YARD"),'Yard Log'!$D$5:$D$204),"") | D11: =IFERROR(LOOKUP(2,1/('Yard Log'!$G$5:$G$204=$A11)/('Yard Log'!$N$5:$N$204="ON YARD"),'Yard Log'!$E$5:$E$204),"") | E11: =IFERROR(LOOKUP(2,1/('Yard Log'!$G$5:$G$204=$A11)/('Yard Log'!$N$5:$N$204="ON YARD"),'Yard Log'!$F$5:$F$204),"") | F11: =IFERROR(LOOKUP(2,1/('Yard Log'!$G$5:$G$204=$A11)/('Yard Log'!$N$5:$N$204="ON YARD"),'Yard Log'!$A$5:$A$204),"") | G11: =IFERROR(LOOKUP(2,1/('Yard Log'!$G$5:$G$204=$A11)/('Yard Log'!$N$5:$N$204="ON YARD"),'Yard Log'!$M$5:$M$204),"") | H11: =IF(B11="","EMPTY","OCCUPIED")
A12: A-08 | B12: =IFERROR(LOOKUP(2,1/('Yard Log'!$G$5:$G$204=$A12)/('Yard Log'!$N$5:$N$204="ON YARD"),'Yard Log'!$C$5:$C$204),"") | C12: =IFERROR(LOOKUP(2,1/('Yard Log'!$G$5:$G$204=$A12)/('Yard Log'!$N$5:$N$204="ON YARD"),'Yard Log'!$D$5:$D$204),"") | D12: =IFERROR(LOOKUP(2,1/('Yard Log'!$G$5:$G$204=$A12)/('Yard Log'!$N$5:$N$204="ON YARD"),'Yard Log'!$E$5:$E$204),"") | E12: =IFERROR(LOOKUP(2,1/('Yard Log'!$G$5:$G$204=$A12)/('Yard Log'!$N$5:$N$204="ON YARD"),'Yard Log'!$F$5:$F$204),"") | F12: =IFERROR(LOOKUP(2,1/('Yard Log'!$G$5:$G$204=$A12)/('Yard Log'!$N$5:$N$204="ON YARD"),'Yard Log'!$A$5:$A$204),"") | G12: =IFERROR(LOOKUP(2,1/('Yard Log'!$G$5:$G$204=$A12)/('Yard Log'!$N$5:$N$204="ON YARD"),'Yard Log'!$M$5:$M$204),"") | H12: =IF(B12="","EMPTY","OCCUPIED")
A13: A-09 | B13: =IFERROR(LOOKUP(2,1/('Yard Log'!$G$5:$G$204=$A13)/('Yard Log'!$N$5:$N$204="ON YARD"),'Yard Log'!$C$5:$C$204),"") | C13: =IFERROR(LOOKUP(2,1/('Yard Log'!$G$5:$G$204=$A13)/('Yard Log'!$N$5:$N$204="ON YARD"),'Yard Log'!$D$5:$D$204),"") | D13: =IFERROR(LOOKUP(2,1/('Yard Log'!$G$5:$G$204=$A13)/('Yard Log'!$N$5:$N$204="ON YARD"),'Yard Log'!$E$5:$E$204),"") | E13: =IFERROR(LOOKUP(2,1/('Yard Log'!$G$5:$G$204=$A13)/('Yard Log'!$N$5:$N$204="ON YARD"),'Yard Log'!$F$5:$F$204),"") | F13: =IFERROR(LOOKUP(2,1/('Yard Log'!$G$5:$G$204=$A13)/('Yard Log'!$N$5:$N$204="ON YARD"),'Yard Log'!$A$5:$A$204),"") | G13: =IFERROR(LOOKUP(2,1/('Yard Log'!$G$5:$G$204=$A13)/('Yard Log'!$N$5:$N$204="ON YARD"),'Yard Log'!$M$5:$M$204),"") | H13: =IF(B13="","EMPTY","OCCUPIED")
A14: A-10 | B14: =IFERROR(LOOKUP(2,1/('Yard Log'!$G$5:$G$204=$A14)/('Yard Log'!$N$5:$N$204="ON YARD"),'Yard Log'!$C$5:$C$204),"") | C14: =IFERROR(LOOKUP(2,1/('Yard Log'!$G$5:$G$204=$A14)/('Yard Log'!$N$5:$N$204="ON YARD"),'Yard Log'!$D$5:$D$204),"") | D14: =IFERROR(LOOKUP(2,1/('Yard Log'!$G$5:$G$204=$A14)/('Yard Log'!$N$5:$N$204="ON YARD"),'Yard Log'!$E$5:$E$204),"") | E14: =IFERROR(LOOKUP(2,1/('Yard Log'!$G$5:$G$204=$A14)/('Yard Log'!$N$5:$N$204="ON YARD"),'Yard Log'!$F$5:$F$204),"") | F14: =IFERROR(LOOKUP(2,1/('Yard Log'!$G$5:$G$204=$A14)/('Yard Log'!$N$5:$N$204="ON YARD"),'Yard Log'!$A$5:$A$204),"") | G14: =IFERROR(LOOKUP(2,1/('Yard Log'!$G$5:$G$204=$A14)/('Yard Log'!$N$5:$N$204="ON YARD"),'Yard Log'!$M$5:$M$204),"") | H14: =IF(B14="","EMPTY","OCCUPIED")
A15: A-11 | B15: =IFERROR(LOOKUP(2,1/('Yard Log'!$G$5:$G$204=$A15)/('Yard Log'!$N$5:$N$204="ON YARD"),'Yard Log'!$C$5:$C$204),"") | C15: =IFERROR(LOOKUP(2,1/('Yard Log'!$G$5:$G$204=$A15)/('Yard Log'!$N$5:$N$204="ON YARD"),'Yard Log'!$D$5:$D$204),"") | D15: =IFERROR(LOOKUP(2,1/('Yard Log'!$G$5:$G$204=$A15)/('Yard Log'!$N$5:$N$204="ON YARD"),'Yard Log'!$E$5:$E$204),"") | E15: =IFERROR(LOOKUP(2,1/('Yard Log'!$G$5:$G$204=$A15)/('Yard Log'!$N$5:$N$204="ON YARD"),'Yard Log'!$F$5:$F$204),"") | F15: =IFERROR(LOOKUP(2,1/('Yard Log'!$G$5:$G$204=$A15)/('Yard Log'!$N$5:$N$204="ON YARD"),'Yard Log'!$A$5:$A$204),"") | G15: =IFERROR(LOOKUP(2,1/('Yard Log'!$G$5:$G$204=$A15)/('Yard Log'!$N$5:$N$204="ON YARD"),'Yard Log'!$M$5:$M$204),"") | H15: =IF(B15="","EMPTY","OCCUPIED")
A16: A-12 | B16: =IFERROR(LOOKUP(2,1/('Yard Log'!$G$5:$G$204=$A16)/('Yard Log'!$N$5:$N$204="ON YARD"),'Yard Log'!$C$5:$C$204),"") | C16: =IFERROR(LOOKUP(2,1/('Yard Log'!$G$5:$G$204=$A16)/('Yard Log'!$N$5:$N$204="ON YARD"),'Yard Log'!$D$5:$D$204),"") | D16: =IFERROR(LOOKUP(2,1/('Yard Log'!$G$5:$G$204=$A16)/('Yard Log'!$N$5:$N$204="ON YARD"),'Yard Log'!$E$5:$E$204),"") | E16: =IFERROR(LOOKUP(2,1/('Yard Log'!$G$5:$G$204=$A16)/('Yard Log'!$N$5:$N$204="ON YARD"),'Yard Log'!$F$5:$F$204),"") | F16: =IFERROR(LOOKUP(2,1/('Yard Log'!$G$5:$G$204=$A16)/('Yard Log'!$N$5:$N$204="ON YARD"),'Yard Log'!$A$5:$A$204),"") | G16: =IFERROR(LOOKUP(2,1/('Yard Log'!$G$5:$G$204=$A16)/('Yard Log'!$N$5:$N$204="ON YARD"),'Yard Log'!$M$5:$M$204),"") | H16: =IF(B16="","EMPTY","OCCUPIED")
... A64: D-15 | B64: =IFERROR(LOOKUP(2,1/('Yard Log'!$G$5:$G$204=$A64)/('Yard Log'!$N$5:$N$204="ON YARD"),'Yard Log'!$C$5:$C$204),"") | C64: =IFERROR(LOOKUP(2,1/('Yard Log'!$G$5:$G$204=$A64)/('Yard Log'!$N$5:$N$204="ON YARD"),'Yard Log'!$D$5:$D$204),"") | D64: =IFERROR(LOOKUP(2,1/('Yard Log'!$G$5:$G$204=$A64)/('Yard Log'!$N$5:$N$204="ON YARD"),'Yard Log'!$E$5:$E$204),"") | E64: =IFERROR(LOOKUP(2,1/('Yard Log'!$G$5:$G$204=$A64)/('Yard Log'!$N$5:$N$204="ON YARD"),'Yard Log'!$F$5:$F$204),"") | F64: =IFERROR(LOOKUP(2,1/('Yard Log'!$G$5:$G$204=$A64)/('Yard Log'!$N$5:$N$204="ON YARD"),'Yard Log'!$A$5:$A$204),"") | G64: =IFERROR(LOOKUP(2,1/('Yard Log'!$G$5:$G$204=$A64)/('Yard Log'!$N$5:$N$204="ON YARD"),'Yard Log'!$M$5:$M$204),"") | H64: =IF(B64="","EMPTY","OCCUPIED")
A66: Occupied spots | B66: =COUNTIF(H5:H64,"OCCUPIED")
A67: Empty spots | B67: =COUNTIF(H5:H64,"EMPTY")
A68: Trailers over 5 days | B68: =COUNTIF(G5:G64,">=5")

Sheet Dwell
A1: DWELL — trailers on yard right now, oldest first
A2: Sorted by days on yard. Yellow = 2+ days, red = 5+ days (change the thresholds in the Settings tab). Use this list for the morning call: 'what leaves today?'
A4: Rank | B4: Trailer # | C4: Carrier | D4: Spot | E4: Loaded / Empty | F4: Date In | G4: Days on yard | H4: Over free time? | I4: helper
A5: 1 | B5: =IF($G5="","",IFERROR(INDEX('Yard Log'!$C$5:$C$204,MATCH($I5,'Yard Log'!$R$5:$R$204,0)),"")) | C5: =IF($G5="","",IFERROR(INDEX('Yard Log'!$D$5:$D$204,MATCH($I5,'Yard Log'!$R$5:$R$204,0)),"")) | D5: =IF($G5="","",IFERROR(INDEX('Yard Log'!$G$5:$G$204,MATCH($I5,'Yard Log'!$R$5:$R$204,0)),"")) | E5: =IF($G5="","",IFERROR(INDEX('Yard Log'!$E$5:$E$204,MATCH($I5,'Yard Log'!$R$5:$R$204,0)),"")) | F5: =IF($G5="","",IFERROR(INDEX('Yard Log'!$A$5:$A$204,MATCH($I5,'Yard Log'!$R$5:$R$204,0)),"")) | G5: =IF(I5="","",ROUND(I5,1)) | H5: =IF($G5="","",IF($G5>=Settings!$B$3,"YES","no")) | I5: =IFERROR(LARGE('Yard Log'!$R$5:$R$204,A5),"")
A6: 2 | B6: =IF($G6="","",IFERROR(INDEX('Yard Log'!$C$5:$C$204,MATCH($I6,'Yard Log'!$R$5:$R$204,0)),"")) | C6: =IF($G6="","",IFERROR(INDEX('Yard Log'!$D$5:$D$204,MATCH($I6,'Yard Log'!$R$5:$R$204,0)),"")) | D6: =IF($G6="","",IFERROR(INDEX('Yard Log'!$G$5:$G$204,MATCH($I6,'Yard Log'!$R$5:$R$204,0)),"")) | E6: =IF($G6="","",IFERROR(INDEX('Yard Log'!$E$5:$E$204,MATCH($I6,'Yard Log'!$R$5:$R$204,0)),"")) | F6: =IF($G6="","",IFERROR(INDEX('Yard Log'!$A$5:$A$204,MATCH($I6,'Yard Log'!$R$5:$R$204,0)),"")) | G6: =IF(I6="","",ROUND(I6,1)) | H6: =IF($G6="","",IF($G6>=Settings!$B$3,"YES","no")) | I6: =IFERROR(LARGE('Yard Log'!$R$5:$R$204,A6),"")
A7: 3 | B7: =IF($G7="","",IFERROR(INDEX('Yard Log'!$C$5:$C$204,MATCH($I7,'Yard Log'!$R$5:$R$204,0)),"")) | C7: =IF($G7="","",IFERROR(INDEX('Yard Log'!$D$5:$D$204,MATCH($I7,'Yard Log'!$R$5:$R$204,0)),"")) | D7: =IF($G7="","",IFERROR(INDEX('Yard Log'!$G$5:$G$204,MATCH($I7,'Yard Log'!$R$5:$R$204,0)),"")) | E7: =IF($G7="","",IFERROR(INDEX('Yard Log'!$E$5:$E$204,MATCH($I7,'Yard Log'!$R$5:$R$204,0)),"")) | F7: =IF($G7="","",IFERROR(INDEX('Yard Log'!$A$5:$A$204,MATCH($I7,'Yard Log'!$R$5:$R$204,0)),"")) | G7: =IF(I7="","",ROUND(I7,1)) | H7: =IF($G7="","",IF($G7>=Settings!$B$3,"YES","no")) | I7: =IFERROR(LARGE('Yard Log'!$R$5:$R$204,A7),"")
A8: 4 | B8: =IF($G8="","",IFERROR(INDEX('Yard Log'!$C$5:$C$204,MATCH($I8,'Yard Log'!$R$5:$R$204,0)),"")) | C8: =IF($G8="","",IFERROR(INDEX('Yard Log'!$D$5:$D$204,MATCH($I8,'Yard Log'!$R$5:$R$204,0)),"")) | D8: =IF($G8="","",IFERROR(INDEX('Yard Log'!$G$5:$G$204,MATCH($I8,'Yard Log'!$R$5:$R$204,0)),"")) | E8: =IF($G8="","",IFERROR(INDEX('Yard Log'!$E$5:$E$204,MATCH($I8,'Yard Log'!$R$5:$R$204,0)),"")) | F8: =IF($G8="","",IFERROR(INDEX('Yard Log'!$A$5:$A$204,MATCH($I8,'Yard Log'!$R$5:$R$204,0)),"")) | G8: =IF(I8="","",ROUND(I8,1)) | H8: =IF($G8="","",IF($G8>=Settings!$B$3,"YES","no")) | I8: =IFERROR(LARGE('Yard Log'!$R$5:$R$204,A8),"")
A9: 5 | B9: =IF($G9="","",IFERROR(INDEX('Yard Log'!$C$5:$C$204,MATCH($I9,'Yard Log'!$R$5:$R$204,0)),"")) | C9: =IF($G9="","",IFERROR(INDEX('Yard Log'!$D$5:$D$204,MATCH($I9,'Yard Log'!$R$5:$R$204,0)),"")) | D9: =IF($G9="","",IFERROR(INDEX('Yard Log'!$G$5:$G$204,MATCH($I9,'Yard Log'!$R$5:$R$204,0)),"")) | E9: =IF($G9="","",IFERROR(INDEX('Yard Log'!$E$5:$E$204,MATCH($I9,'Yard Log'!$R$5:$R$204,0)),"")) | F9: =IF($G9="","",IFERROR(INDEX('Yard Log'!$A$5:$A$204,MATCH($I9,'Yard Log'!$R$5:$R$204,0)),"")) | G9: =IF(I9="","",ROUND(I9,1)) | H9: =IF($G9="","",IF($G9>=Settings!$B$3,"YES","no")) | I9: =IFERROR(LARGE('Yard Log'!$R$5:$R$204,A9),"")
A10: 6 | B10: =IF($G10="","",IFERROR(INDEX('Yard Log'!$C$5:$C$204,MATCH($I10,'Yard Log'!$R$5:$R$204,0)),"")) | C10: =IF($G10="","",IFERROR(INDEX('Yard Log'!$D$5:$D$204,MATCH($I10,'Yard Log'!$R$5:$R$204,0)),"")) | D10: =IF($G10="","",IFERROR(INDEX('Yard Log'!$G$5:$G$204,MATCH($I10,'Yard Log'!$R$5:$R$204,0)),"")) | E10: =IF($G10="","",IFERROR(INDEX('Yard Log'!$E$5:$E$204,MATCH($I10,'Yard Log'!$R$5:$R$204,0)),"")) | F10: =IF($G10="","",IFERROR(INDEX('Yard Log'!$A$5:$A$204,MATCH($I10,'Yard Log'!$R$5:$R$204,0)),"")) | G10: =IF(I10="","",ROUND(I10,1)) | H10: =IF($G10="","",IF($G10>=Settings!$B$3,"YES","no")) | I10: =IFERROR(LARGE('Yard Log'!$R$5:$R$204,A10),"")
A11: 7 | B11: =IF($G11="","",IFERROR(INDEX('Yard Log'!$C$5:$C$204,MATCH($I11,'Yard Log'!$R$5:$R$204,0)),"")) | C11: =IF($G11="","",IFERROR(INDEX('Yard Log'!$D$5:$D$204,MATCH($I11,'Yard Log'!$R$5:$R$204,0)),"")) | D11: =IF($G11="","",IFERROR(INDEX('Yard Log'!$G$5:$G$204,MATCH($I11,'Yard Log'!$R$5:$R$204,0)),"")) | E11: =IF($G11="","",IFERROR(INDEX('Yard Log'!$E$5:$E$204,MATCH($I11,'Yard Log'!$R$5:$R$204,0)),"")) | F11: =IF($G11="","",IFERROR(INDEX('Yard Log'!$A$5:$A$204,MATCH($I11,'Yard Log'!$R$5:$R$204,0)),"")) | G11: =IF(I11="","",ROUND(I11,1)) | H11: =IF($G11="","",IF($G11>=Settings!$B$3,"YES","no")) | I11: =IFERROR(LARGE('Yard Log'!$R$5:$R$204,A11),"")
A12: 8 | B12: =IF($G12="","",IFERROR(INDEX('Yard Log'!$C$5:$C$204,MATCH($I12,'Yard Log'!$R$5:$R$204,0)),"")) | C12: =IF($G12="","",IFERROR(INDEX('Yard Log'!$D$5:$D$204,MATCH($I12,'Yard Log'!$R$5:$R$204,0)),"")) | D12: =IF($G12="","",IFERROR(INDEX('Yard Log'!$G$5:$G$204,MATCH($I12,'Yard Log'!$R$5:$R$204,0)),"")) | E12: =IF($G12="","",IFERROR(INDEX('Yard Log'!$E$5:$E$204,MATCH($I12,'Yard Log'!$R$5:$R$204,0)),"")) | F12: =IF($G12="","",IFERROR(INDEX('Yard Log'!$A$5:$A$204,MATCH($I12,'Yard Log'!$R$5:$R$204,0)),"")) | G12: =IF(I12="","",ROUND(I12,1)) | H12: =IF($G12="","",IF($G12>=Settings!$B$3,"YES","no")) | I12: =IFERROR(LARGE('Yard Log'!$R$5:$R$204,A12),"")
A13: 9 | B13: =IF($G13="","",IFERROR(INDEX('Yard Log'!$C$5:$C$204,MATCH($I13,'Yard Log'!$R$5:$R$204,0)),"")) | C13: =IF($G13="","",IFERROR(INDEX('Yard Log'!$D$5:$D$204,MATCH($I13,'Yard Log'!$R$5:$R$204,0)),"")) | D13: =IF($G13="","",IFERROR(INDEX('Yard Log'!$G$5:$G$204,MATCH($I13,'Yard Log'!$R$5:$R$204,0)),"")) | E13: =IF($G13="","",IFERROR(INDEX('Yard Log'!$E$5:$E$204,MATCH($I13,'Yard Log'!$R$5:$R$204,0)),"")) | F13: =IF($G13="","",IFERROR(INDEX('Yard Log'!$A$5:$A$204,MATCH($I13,'Yard Log'!$R$5:$R$204,0)),"")) | G13: =IF(I13="","",ROUND(I13,1)) | H13: =IF($G13="","",IF($G13>=Settings!$B$3,"YES","no")) | I13: =IFERROR(LARGE('Yard Log'!$R$5:$R$204,A13),"")
A14: 10 | B14: =IF($G14="","",IFERROR(INDEX('Yard Log'!$C$5:$C$204,MATCH($I14,'Yard Log'!$R$5:$R$204,0)),"")) | C14: =IF($G14="","",IFERROR(INDEX('Yard Log'!$D$5:$D$204,MATCH($I14,'Yard Log'!$R$5:$R$204,0)),"")) | D14: =IF($G14="","",IFERROR(INDEX('Yard Log'!$G$5:$G$204,MATCH($I14,'Yard Log'!$R$5:$R$204,0)),"")) | E14: =IF($G14="","",IFERROR(INDEX('Yard Log'!$E$5:$E$204,MATCH($I14,'Yard Log'!$R$5:$R$204,0)),"")) | F14: =IF($G14="","",IFERROR(INDEX('Yard Log'!$A$5:$A$204,MATCH($I14,'Yard Log'!$R$5:$R$204,0)),"")) | G14: =IF(I14="","",ROUND(I14,1)) | H14: =IF($G14="","",IF($G14>=Settings!$B$3,"YES","no")) | I14: =IFERROR(LARGE('Yard Log'!$R$5:$R$204,A14),"")
A15: 11 | B15: =IF($G15="","",IFERROR(INDEX('Yard Log'!$C$5:$C$204,MATCH($I15,'Yard Log'!$R$5:$R$204,0)),"")) | C15: =IF($G15="","",IFERROR(INDEX('Yard Log'!$D$5:$D$204,MATCH($I15,'Yard Log'!$R$5:$R$204,0)),"")) | D15: =IF($G15="","",IFERROR(INDEX('Yard Log'!$G$5:$G$204,MATCH($I15,'Yard Log'!$R$5:$R$204,0)),"")) | E15: =IF($G15="","",IFERROR(INDEX('Yard Log'!$E$5:$E$204,MATCH($I15,'Yard Log'!$R$5:$R$204,0)),"")) | F15: =IF($G15="","",IFERROR(INDEX('Yard Log'!$A$5:$A$204,MATCH($I15,'Yard Log'!$R$5:$R$204,0)),"")) | G15: =IF(I15="","",ROUND(I15,1)) | H15: =IF($G15="","",IF($G15>=Settings!$B$3,"YES","no")) | I15: =IFERROR(LARGE('Yard Log'!$R$5:$R$204,A15),"")
A16: 12 | B16: =IF($G16="","",IFERROR(INDEX('Yard Log'!$C$5:$C$204,MATCH($I16,'Yard Log'!$R$5:$R$204,0)),"")) | C16: =IF($G16="","",IFERROR(INDEX('Yard Log'!$D$5:$D$204,MATCH($I16,'Yard Log'!$R$5:$R$204,0)),"")) | D16: =IF($G16="","",IFERROR(INDEX('Yard Log'!$G$5:$G$204,MATCH($I16,'Yard Log'!$R$5:$R$204,0)),"")) | E16: =IF($G16="","",IFERROR(INDEX('Yard Log'!$E$5:$E$204,MATCH($I16,'Yard Log'!$R$5:$R$204,0)),"")) | F16: =IF($G16="","",IFERROR(INDEX('Yard Log'!$A$5:$A$204,MATCH($I16,'Yard Log'!$R$5:$R$204,0)),"")) | G16: =IF(I16="","",ROUND(I16,1)) | H16: =IF($G16="","",IF($G16>=Settings!$B$3,"YES","no")) | I16: =IFERROR(LARGE('Yard Log'!$R$5:$R$204,A16),"")
... A54: 50 | B54: =IF($G54="","",IFERROR(INDEX('Yard Log'!$C$5:$C$204,MATCH($I54,'Yard Log'!$R$5:$R$204,0)),"")) | C54: =IF($G54="","",IFERROR(INDEX('Yard Log'!$D$5:$D$204,MATCH($I54,'Yard Log'!$R$5:$R$204,0)),"")) | D54: =IF($G54="","",IFERROR(INDEX('Yard Log'!$G$5:$G$204,MATCH($I54,'Yard Log'!$R$5:$R$204,0)),"")) | E54: =IF($G54="","",IFERROR(INDEX('Yard Log'!$E$5:$E$204,MATCH($I54,'Yard Log'!$R$5:$R$204,0)),"")) | F54: =IF($G54="","",IFERROR(INDEX('Yard Log'!$A$5:$A$204,MATCH($I54,'Yard Log'!$R$5:$R$204,0)),"")) | G54: =IF(I54="","",ROUND(I54,1)) | H54: =IF($G54="","",IF($G54>=Settings!$B$3,"YES","no")) | I54: =IFERROR(LARGE('Yard Log'!$R$5:$R$204,A54),"")
A57: Works in Excel (any version) and Google Sheets: no array formulas. Column I is a helper that keeps the sort stable.

Sheet Seal Log
A1: SEAL LOG — every seal applied, verified, or broken
A2: One row per seal event. 'Matches previous?' flags a seal that changed between events on the same trailer (a break, a reseal, or a typo — find out which).
A4: Date | B4: Time | C4: Trailer # | D4: Seal # | E4: Event (APPLIED / VERIFIED / BROKEN / RESEALED) | F4: Location (gate / dock / yard spot) | G4: By | H4: Previous seal on this trailer | I4: Matches previous? | J4: Notes
H5: =IF(C5="","","first entry") | I5: =IF(OR(C5="",H5="first entry"),"",IF(H5=D5,"yes","CHANGED"))
H6: =IF(C6="","",IFERROR(LOOKUP(2,1/($C$5:C5=C6),$D$5:D5),"first entry")) | I6: =IF(OR(C6="",H6="first entry"),"",IF(H6=D6,"yes","CHANGED"))
H7: =IF(C7="","",IFERROR(LOOKUP(2,1/($C$5:C6=C7),$D$5:D6),"first entry")) | I7: =IF(OR(C7="",H7="first entry"),"",IF(H7=D7,"yes","CHANGED"))
H8: =IF(C8="","",IFERROR(LOOKUP(2,1/($C$5:C7=C8),$D$5:D7),"first entry")) | I8: =IF(OR(C8="",H8="first entry"),"",IF(H8=D8,"yes","CHANGED"))
H9: =IF(C9="","",IFERROR(LOOKUP(2,1/($C$5:C8=C9),$D$5:D8),"first entry")) | I9: =IF(OR(C9="",H9="first entry"),"",IF(H9=D9,"yes","CHANGED"))
H10: =IF(C10="","",IFERROR(LOOKUP(2,1/($C$5:C9=C10),$D$5:D9),"first entry")) | I10: =IF(OR(C10="",H10="first entry"),"",IF(H10=D10,"yes","CHANGED"))
H11: =IF(C11="","",IFERROR(LOOKUP(2,1/($C$5:C10=C11),$D$5:D10),"first entry")) | I11: =IF(OR(C11="",H11="first entry"),"",IF(H11=D11,"yes","CHANGED"))
H12: =IF(C12="","",IFERROR(LOOKUP(2,1/($C$5:C11=C12),$D$5:D11),"first entry")) | I12: =IF(OR(C12="",H12="first entry"),"",IF(H12=D12,"yes","CHANGED"))
H13: =IF(C13="","",IFERROR(LOOKUP(2,1/($C$5:C12=C13),$D$5:D12),"first entry")) | I13: =IF(OR(C13="",H13="first entry"),"",IF(H13=D13,"yes","CHANGED"))
H14: =IF(C14="","",IFERROR(LOOKUP(2,1/($C$5:C13=C14),$D$5:D13),"first entry")) | I14: =IF(OR(C14="",H14="first entry"),"",IF(H14=D14,"yes","CHANGED"))
H15: =IF(C15="","",IFERROR(LOOKUP(2,1/($C$5:C14=C15),$D$5:D14),"first entry")) | I15: =IF(OR(C15="",H15="first entry"),"",IF(H15=D15,"yes","CHANGED"))
H16: =IF(C16="","",IFERROR(LOOKUP(2,1/($C$5:C15=C16),$D$5:D15),"first entry")) | I16: =IF(OR(C16="",H16="first entry"),"",IF(H16=D16,"yes","CHANGED"))
H17: =IF(C17="","",IFERROR(LOOKUP(2,1/($C$5:C16=C17),$D$5:D16),"first entry")) | I17: =IF(OR(C17="",H17="first entry"),"",IF(H17=D17,"yes","CHANGED"))
... H204: =IF(C204="","",IFERROR(LOOKUP(2,1/($C$5:C203=C204),$D$5:D203),"first entry")) | I204: =IF(OR(C204="",H204="first entry"),"",IF(H204=D204,"yes","CHANGED"))

Sheet Settings
A1: Thresholds
A2: Warn at (days) | B2: 2
A3: Alarm / free time ends at (days) | B3: 5
A5: Change B2/B3 to match your detention free time. Dwell and Current Yard tabs read from here.
A7: Free template from Vantage YMS — https://www.vantageyms.com/tools/trailer-tracking-spreadsheet
